BEGIN:VCALENDAR
PRODID:-//AT Content Types//AT Event//EN
VERSION:2.0
METHOD:PUBLISH
BEGIN:VEVENT
DTSTAMP:20260423T184048Z
CREATED:20260114T112855Z
UID:ATEvent-3572b941-bd0b-4cac-b36c-baf017d0d9c5
LAST-MODIFIED:20260114T112917Z
SUMMARY:Ailatasuna\: El Circ de les meravelles - Màgia i circ
DTSTART:20260226T163000Z
DTEND:20260226T173000Z
CONTACT:977 200 394
CLASS:PUBLIC
END:VEVENT
END:VCALENDAR
