BEGIN:VCALENDAR
PRODID:-//AT Content Types//AT Event//EN
VERSION:1.0
BEGIN:VEVENT
DTSTART:20260307T110000Z
DTEND:20260307T120000Z
DCREATED:20260114T125730Z
UID:ATEvent-fb29794e-1b8e-4d82-9369-79c369ec769e
SEQUENCE:0
LAST-MODIFIED:20260114T125803Z
SUMMARY:Dakiparriba - Xirigotes
PRIORITY:3
TRANSP:0
END:VEVENT
END:VCALENDAR
