BEGIN:VCALENDAR
PRODID:-//AT Content Types//AT Event//EN
VERSION:2.0
METHOD:PUBLISH
BEGIN:VEVENT
DTSTAMP:20260423T184033Z
CREATED:20260115T134539Z
UID:ATEvent-6ecd988d-8d07-450e-b777-771e5f20633a
LAST-MODIFIED:20260115T134557Z
SUMMARY:El Seminari\: claustre de Sant Pau i biblioteca
DTSTART:20260227T090000Z
DTEND:20260227T110000Z
CONTACT:977 296 100 (ext.6411)
CLASS:PUBLIC
END:VEVENT
END:VCALENDAR
