BEGIN:VCALENDAR
PRODID:-//AT Content Types//AT Event//EN
VERSION:2.0
METHOD:PUBLISH
BEGIN:VEVENT
DTSTAMP:20260423T224839Z
CREATED:20260115T104602Z
UID:ATEvent-bf87308d-1cb2-4401-babc-d03f9f6af2e9
LAST-MODIFIED:20260115T104625Z
SUMMARY:Infants i joves contra el bullying
DTSTART:20260227T163000Z
DTEND:20260227T180000Z
CONTACT:977 550 231
CLASS:PUBLIC
END:VEVENT
END:VCALENDAR
