BEGIN:VCALENDAR
PRODID:-//AT Content Types//AT Event//EN
VERSION:2.0
METHOD:PUBLISH
BEGIN:VEVENT
DTSTAMP:20260423T194859Z
CREATED:20260115T140551Z
UID:ATEvent-2a8a42a1-4c2f-4f8c-ad5b-27352069fcee
LAST-MODIFIED:20260115T140612Z
SUMMARY:Sortida a la Pedrera del Mèdol
DTSTART:20260523T073000Z
DTEND:20260523T100000Z
CONTACT:977 296 100 (ext.6411)
CLASS:PUBLIC
END:VEVENT
END:VCALENDAR
