BEGIN:VCALENDAR
PRODID:-//AT Content Types//AT Event//EN
VERSION:1.0
BEGIN:VEVENT
DTSTART:20260327T100000Z
DTEND:20260327T110000Z
DCREATED:20260115T102549Z
UID:ATEvent-da4670bc-0240-4065-bccb-e4d121f88e7a
SEQUENCE:0
LAST-MODIFIED:20260115T102704Z
SUMMARY:UMIRC\: Unitat de mediació i resolució de conflictes
PRIORITY:3
TRANSP:0
END:VEVENT
END:VCALENDAR
