BEGIN:VCALENDAR
PRODID:-//AT Content Types//AT Event//EN
VERSION:2.0
METHOD:PUBLISH
BEGIN:VEVENT
DTSTAMP:20260423T194900Z
CREATED:20260115T141706Z
UID:ATEvent-4fa3682c-950b-408a-a8c6-3023eb2abf22
LAST-MODIFIED:20260419T100401Z
SUMMARY:Xerrada\: L'eclipsi solar del 12 d'agost de 2026
DTSTART:20260612T160000Z
DTEND:20260612T180000Z
CATEGORIES:Eclipsi,Centres Cívics
CONTACT:977 296 100 (ext.6411)
CLASS:PUBLIC
END:VEVENT
END:VCALENDAR
