BEGIN:VCALENDAR
PRODID:-//AT Content Types//AT Event//EN
VERSION:1.0
BEGIN:VEVENT
DTSTART:20260430T153000Z
DTEND:20260501T010000Z
DCREATED:20260422T054713Z
UID:ATEvent-3d936a40-84de-4d6e-b7c6-282320fc7972
SEQUENCE:0
LAST-MODIFIED:20260422T062033Z
SUMMARY:32a Fira d'Abril\: 1a jornada
PRIORITY:3
TRANSP:0
END:VEVENT
END:VCALENDAR
