BEGIN:VCALENDAR
PRODID:-//AT Content Types//AT Event//EN
VERSION:2.0
METHOD:PUBLISH
BEGIN:VEVENT
DTSTAMP:20260422T103056Z
CREATED:20260422T054713Z
UID:ATEvent-a6052aed-0abd-4a6d-951d-44142e0720e0
LAST-MODIFIED:20260422T062058Z
SUMMARY:32a Fira d'Abril\: 2a jornada
DTSTART:20260501T090000Z
DTEND:20260502T010000Z
CATEGORIES:Mercats,Cultura
CLASS:PUBLIC
END:VEVENT
END:VCALENDAR
