BEGIN:VCALENDAR
PRODID:-//AT Content Types//AT Event//EN
VERSION:1.0
BEGIN:VEVENT
DTSTART:20260502T090000Z
DTEND:20260503T010000Z
DCREATED:20260422T054713Z
UID:ATEvent-ca93ae3f-3388-4490-b976-ddd5169f8742
SEQUENCE:0
LAST-MODIFIED:20260422T062119Z
SUMMARY:32a Fira d'Abril\: 3a jornada
PRIORITY:3
TRANSP:0
END:VEVENT
END:VCALENDAR
