BEGIN:VCALENDAR
PRODID:-//AT Content Types//AT Event//EN
VERSION:1.0
BEGIN:VEVENT
DTSTART:20260503T090000Z
DTEND:20260503T200000Z
DCREATED:20260422T054713Z
UID:ATEvent-678e9fb8-7c16-4fc1-8b52-7e7c8a05f132
SEQUENCE:0
LAST-MODIFIED:20260422T062142Z
SUMMARY:32a Fira d'Abril\: 4a jornada
PRIORITY:3
TRANSP:0
END:VEVENT
END:VCALENDAR
