BEGIN:VCALENDAR
PRODID:-//AT Content Types//AT Event//EN
VERSION:2.0
METHOD:PUBLISH
BEGIN:VEVENT
DTSTAMP:20260422T092346Z
CREATED:20260422T054713Z
UID:ATEvent-47b3a74d-300c-4b26-95eb-5b36c46db58c
LAST-MODIFIED:20260422T061952Z
SUMMARY:32a Fira d'Abril\: Actes previs - Fira d'atraccions amb preu especial
DTSTART:20260428T153000Z
DTEND:20260428T200000Z
CATEGORIES:Mercats,Cultura
CLASS:PUBLIC
END:VEVENT
END:VCALENDAR
