BEGIN:VCALENDAR
PRODID:-//AT Content Types//AT Event//EN
VERSION:2.0
METHOD:PUBLISH
BEGIN:VEVENT
DTSTAMP:20260422T092310Z
CREATED:20260422T054713Z
UID:ATEvent-213ba992-0ad6-489c-8d5f-eacf7d44b2ad
LAST-MODIFIED:20260422T062011Z
SUMMARY:32a Fira d'Abril\: Actes previs - Obre la fira d'atraccions
DTSTART:20260424T153000Z
DTEND:20260424T200000Z
CATEGORIES:Mercats,Cultura
CLASS:PUBLIC
END:VEVENT
END:VCALENDAR
