BEGIN:VCALENDAR
PRODID:-//AT Content Types//AT Event//EN
VERSION:1.0
BEGIN:VEVENT
DTSTART:20260424T143000Z
DTEND:20260424T160000Z
DCREATED:20260414T073720Z
UID:ATEvent-ae403eb8-334b-4467-a7bc-9842e8e66b83
SEQUENCE:0
LAST-MODIFIED:20260419T093721Z
SUMMARY:Observatori Blau\: El món de la pesca al Serrallo
PRIORITY:3
TRANSP:0
END:VEVENT
END:VCALENDAR
