BEGIN:VCALENDAR
PRODID:-//AT Content Types//AT Event//EN
VERSION:2.0
METHOD:PUBLISH
BEGIN:VEVENT
DTSTAMP:20260419T121011Z
CREATED:20260330T063412Z
UID:ATEvent-bcfd5261-8271-4070-b051-e0320e2c2cd8
LAST-MODIFIED:20260330T063423Z
SUMMARY:Sessió informativa del programa VOL+
DTSTART:20260409T083000Z
DTEND:20260409T093000Z
CATEGORIES:solidaritat
CLASS:PUBLIC
END:VEVENT
END:VCALENDAR
