BEGIN:VCALENDAR
PRODID:-//AT Content Types//AT Event//EN
VERSION:1.0
BEGIN:VEVENT
DTSTART:20260416T090000Z
DTEND:20260416T100000Z
DCREATED:20260330T063412Z
UID:ATEvent-d59243cf-4097-4f2a-81d9-84724a3b7604
SEQUENCE:0
LAST-MODIFIED:20260330T063816Z
SUMMARY:Sessió (in)formativa de voluntariat en línia
PRIORITY:3
TRANSP:0
END:VEVENT
END:VCALENDAR
