BEGIN:VCALENDAR
PRODID:-//AT Content Types//AT Event//EN
VERSION:2.0
METHOD:PUBLISH
BEGIN:VEVENT
DTSTAMP:20260422T172134Z
CREATED:20260402T082937Z
UID:ATEvent-dc2ad8bb-3f56-49f2-9a24-4106caaa6520
LAST-MODIFIED:20260402T082957Z
SUMMARY:Bingo musical al Cau
DTSTART:20260412T160000Z
DTEND:20260412T180000Z
CLASS:PUBLIC
END:VEVENT
END:VCALENDAR
