BEGIN:VCALENDAR
PRODID:-//AT Content Types//AT Event//EN
VERSION:1.0
BEGIN:VEVENT
DTSTART:20260421T163000Z
DTEND:20260421T183000Z
DCREATED:20260305T094254Z
UID:ATEvent-11d98e7d-d280-4146-ab8e-b33baffaf892
SEQUENCE:0
LAST-MODIFIED:20260401T065513Z
SUMMARY:Capsa i Club de Lectura\: "Aquesta cançó\, no"
PRIORITY:3
TRANSP:0
END:VEVENT
END:VCALENDAR
