BEGIN:VCALENDAR
PRODID:-//AT Content Types//AT Event//EN
VERSION:2.0
METHOD:PUBLISH
BEGIN:VEVENT
DTSTAMP:20260421T113645Z
CREATED:20260305T094254Z
UID:ATEvent-e3df5a32-b22c-42d6-a9f8-a7b50a809443
LAST-MODIFIED:20260401T062522Z
SUMMARY:Capsa i Soc Autor | La IA a la música\: Creació\, impacte i drets
DTSTART:20260410T164500Z
DTEND:20260410T191500Z
CATEGORIES:Cultura
CLASS:PUBLIC
END:VEVENT
END:VCALENDAR
