BEGIN:VCALENDAR
PRODID:-//AT Content Types//AT Event//EN
VERSION:2.0
METHOD:PUBLISH
BEGIN:VEVENT
DTSTAMP:20260423T141748Z
CREATED:20260107T105236Z
UID:ATEvent-981a3316-bf52-4de8-a997-67fc1a3c292e
LAST-MODIFIED:20260310T091947Z
SUMMARY:Cicle Gaudí\: Mi amiga Eva
DTSTART:20260430T163000Z
DTEND:20260430T181500Z
CATEGORIES:Cultura
CLASS:PUBLIC
END:VEVENT
END:VCALENDAR
