BEGIN:VCALENDAR
PRODID:-//AT Content Types//AT Event//EN
VERSION:2.0
METHOD:PUBLISH
BEGIN:VEVENT
DTSTAMP:20260419T120528Z
CREATED:20260419T090859Z
UID:ATEvent-3b2a31dd-aa90-4ae3-bd2c-9d151b44ea33
LAST-MODIFIED:20260419T091913Z
SUMMARY:Comiat del Correllengua Agermanat\, cap a Cambrils
DTSTART:20260423T073000Z
DTEND:20260423T090000Z
CATEGORIES:Lletres,Sant Jordi,Cultura,Primavera Literària
CLASS:PUBLIC
END:VEVENT
END:VCALENDAR
