BEGIN:VCALENDAR
PRODID:-//AT Content Types//AT Event//EN
VERSION:1.0
BEGIN:VEVENT
DTSTART:20260420T080000Z
DTEND:20260509T180000Z
DCREATED:20260402T080138Z
UID:ATEvent-1f0480b8-be14-4396-940e-c911f6aa2836
SEQUENCE:0
LAST-MODIFIED:20260402T084442Z
SUMMARY:Exposició "Intimitat anònima"
PRIORITY:3
TRANSP:0
END:VEVENT
END:VCALENDAR
