BEGIN:VCALENDAR
PRODID:-//AT Content Types//AT Event//EN
VERSION:1.0
BEGIN:VEVENT
DTSTART:20260414T080000Z
DTEND:20260606T120000Z
DCREATED:20260330T072408Z
UID:ATEvent-c28f5466-a05f-4d0b-9447-5f7929a26724
SEQUENCE:0
LAST-MODIFIED:20260330T074404Z
SUMMARY:Exposició "La casa del savi"\, de Gonzalo Elvira
PRIORITY:3
TRANSP:0
END:VEVENT
END:VCALENDAR
