BEGIN:VCALENDAR
PRODID:-//AT Content Types//AT Event//EN
VERSION:2.0
METHOD:PUBLISH
BEGIN:VEVENT
DTSTAMP:20260419T172942Z
CREATED:20260330T071517Z
UID:ATEvent-0f878033-59f8-4f09-8b79-89dec154d967
LAST-MODIFIED:20260330T071604Z
SUMMARY:Exposició "L'instant suspès"\, d'Ezio Sanapo
DTSTART:20260401T080000Z
DTEND:20260430T120000Z
CATEGORIES:Cultura
CLASS:PUBLIC
END:VEVENT
END:VCALENDAR
