BEGIN:VCALENDAR
PRODID:-//AT Content Types//AT Event//EN
VERSION:2.0
METHOD:PUBLISH
BEGIN:VEVENT
DTSTAMP:20260422T142103Z
CREATED:20260402T080138Z
UID:ATEvent-8ca8c332-5e54-4c78-a595-fc97ceef7c9b
LAST-MODIFIED:20260402T080801Z
SUMMARY:Exposició "Quan les mans parlen"
DTSTART:20260407T140000Z
DTEND:20260430T180000Z
CATEGORIES:Cultura
CLASS:PUBLIC
END:VEVENT
END:VCALENDAR
