BEGIN:VCALENDAR
PRODID:-//AT Content Types//AT Event//EN
VERSION:2.0
METHOD:PUBLISH
BEGIN:VEVENT
DTSTAMP:20260419T235712Z
CREATED:20260330T072408Z
UID:ATEvent-98bf901c-c0c3-4dc3-85ea-7e9c507682b9
LAST-MODIFIED:20260330T074434Z
SUMMARY:Inauguració de l'exposició "La casa del savi"\, de Gonzalo Elvira
DTSTART:20260410T170000Z
DTEND:20260410T180000Z
CATEGORIES:Cultura
CLASS:PUBLIC
END:VEVENT
END:VCALENDAR
