BEGIN:VCALENDAR
PRODID:-//AT Content Types//AT Event//EN
VERSION:2.0
METHOD:PUBLISH
BEGIN:VEVENT
DTSTAMP:20260419T193411Z
CREATED:20260330T071517Z
UID:ATEvent-2fd0903a-a8ca-4a5d-8569-158c91956d25
LAST-MODIFIED:20260330T071942Z
SUMMARY:Inauguració de l'exposició "L'instant suspès"\, d'Ezio Sanapo
DTSTART:20260410T170000Z
DTEND:20260410T180000Z
CATEGORIES:Cultura
CLASS:PUBLIC
END:VEVENT
END:VCALENDAR
