BEGIN:VCALENDAR
PRODID:-//AT Content Types//AT Event//EN
VERSION:2.0
METHOD:PUBLISH
BEGIN:VEVENT
DTSTAMP:20260422T172202Z
CREATED:20260402T080138Z
UID:ATEvent-96d52042-b3e6-4006-8508-ebc4377a1389
LAST-MODIFIED:20260402T080623Z
SUMMARY:Inauguració de l'exposició "Quan les mans parlen"
DTSTART:20260408T170000Z
DTEND:20260408T180000Z
CATEGORIES:Cultura
CLASS:PUBLIC
END:VEVENT
END:VCALENDAR
