BEGIN:VCALENDAR
PRODID:-//AT Content Types//AT Event//EN
VERSION:1.0
BEGIN:VEVENT
DTSTART:20260424T170000Z
DTEND:20260424T180000Z
DCREATED:20260402T081406Z
UID:ATEvent-f2b781c2-7572-45b7-a296-f9acddcbdbd7
SEQUENCE:0
LAST-MODIFIED:20260420T064501Z
SUMMARY:Lo barber de l'Alguer i els seus amics cantaran cançons alguereses i catalanes
PRIORITY:3
TRANSP:0
END:VEVENT
END:VCALENDAR
