BEGIN:VCALENDAR
PRODID:-//AT Content Types//AT Event//EN
VERSION:1.0
BEGIN:VEVENT
DTSTART:20260417T170000Z
DTEND:20260417T183000Z
DCREATED:20260330T065855Z
UID:ATEvent-71f903b1-0a35-4bb6-a01b-48c3cb59a34d
SEQUENCE:0
LAST-MODIFIED:20260409T061546Z
SUMMARY:Projecció del documental "The Competition"
PRIORITY:3
TRANSP:0
END:VEVENT
END:VCALENDAR
