BEGIN:VCALENDAR
PRODID:-//AT Content Types//AT Event//EN
VERSION:2.0
METHOD:PUBLISH
BEGIN:VEVENT
DTSTAMP:20260419T120539Z
CREATED:20260419T090859Z
UID:ATEvent-08f1b98e-32d4-4029-b08e-3f0e53926851
LAST-MODIFIED:20260419T092120Z
SUMMARY:Rebuda del Correllengua Agermanat 2026
DTSTART:20260422T180000Z
DTEND:20260422T190000Z
CATEGORIES:Lletres,Sant Jordi,Cultura,Primavera Literària
CLASS:PUBLIC
END:VEVENT
END:VCALENDAR
