BEGIN:VCALENDAR
PRODID:-//AT Content Types//AT Event//EN
VERSION:2.0
METHOD:PUBLISH
BEGIN:VEVENT
DTSTAMP:20260419T234629Z
CREATED:20260419T101832Z
UID:ATEvent-97fa12ec-21b2-4c7b-b570-4460e61019e0
LAST-MODIFIED:20260419T201839Z
SUMMARY:"Bunker Rococo"\, amb Maika Makovski
DTSTART:20260731T190000Z
DTEND:20260731T201500Z
CATEGORIES:Cultura
CLASS:PUBLIC
END:VEVENT
END:VCALENDAR
