BEGIN:VCALENDAR
PRODID:-//AT Content Types//AT Event//EN
VERSION:2.0
METHOD:PUBLISH
BEGIN:VEVENT
DTSTAMP:20260419T234854Z
CREATED:20260419T101832Z
UID:ATEvent-5531868b-a231-436f-a273-9d1b9195b9ed
LAST-MODIFIED:20260419T201837Z
SUMMARY:"Carmen"\, amb els Amics de la Lírica
DTSTART:20260626T200000Z
DTEND:20260626T230000Z
CATEGORIES:Cultura
CLASS:PUBLIC
END:VEVENT
END:VCALENDAR
