BEGIN:VCALENDAR
PRODID:-//AT Content Types//AT Event//EN
VERSION:1.0
BEGIN:VEVENT
DTSTART:20260628T200000Z
DTEND:20260628T230000Z
DCREATED:20260419T101832Z
UID:ATEvent-413ea547-6466-4eec-bb5d-66e09d27563f
SEQUENCE:0
LAST-MODIFIED:20260419T201837Z
SUMMARY:"Carmen"\, amb els Amics de la Lírica
PRIORITY:3
TRANSP:0
END:VEVENT
END:VCALENDAR
