BEGIN:VCALENDAR
PRODID:-//AT Content Types//AT Event//EN
VERSION:2.0
METHOD:PUBLISH
BEGIN:VEVENT
DTSTAMP:20260419T234803Z
CREATED:20260419T101832Z
UID:ATEvent-02c06b00-127d-4ca4-ae93-d80d8378c75a
LAST-MODIFIED:20260419T201839Z
SUMMARY:"Collage"\, amb la companyia BotProject
DTSTART:20260731T170000Z
DTEND:20260731T174000Z
CATEGORIES:Famílies,Cultura,Teatre
CLASS:PUBLIC
END:VEVENT
END:VCALENDAR
