BEGIN:VCALENDAR
PRODID:-//AT Content Types//AT Event//EN
VERSION:2.0
METHOD:PUBLISH
BEGIN:VEVENT
DTSTAMP:20260419T234802Z
CREATED:20260419T101832Z
UID:ATEvent-c8d5691d-0ca2-4fd2-82d3-540a4761add5
LAST-MODIFIED:20260419T201838Z
SUMMARY:Concert de Lila Downs
DTSTART:20260718T200000Z
DTEND:20260718T213000Z
CATEGORIES:Cultura
CLASS:PUBLIC
END:VEVENT
END:VCALENDAR
