BEGIN:VCALENDAR
PRODID:-//AT Content Types//AT Event//EN
VERSION:1.0
BEGIN:VEVENT
DTSTART:20260709T193000Z
DTEND:20260709T201500Z
DCREATED:20260419T101832Z
UID:ATEvent-0da18b87-cdd3-42a8-b24d-118b21bb1d54
SEQUENCE:0
LAST-MODIFIED:20260419T201837Z
SUMMARY:"Épiphytes"\, amb la companyia Chaussons Rouges
PRIORITY:3
TRANSP:0
END:VEVENT
END:VCALENDAR
