BEGIN:VCALENDAR
PRODID:-//AT Content Types//AT Event//EN
VERSION:1.0
BEGIN:VEVENT
DTSTART:20260705T163000Z
DTEND:20260705T173500Z
DCREATED:20260419T101832Z
UID:ATEvent-fc4a542d-bd21-4389-a4cd-211bf558582d
SEQUENCE:0
LAST-MODIFIED:20260419T201837Z
SUMMARY:"És l'hora de la banda"\, amb Dàmaris Gelabert i la BUMT
PRIORITY:3
TRANSP:0
END:VEVENT
END:VCALENDAR
