BEGIN:VCALENDAR
PRODID:-//AT Content Types//AT Event//EN
VERSION:1.0
BEGIN:VEVENT
DTSTART:20260724T170000Z
DTEND:20260724T180000Z
DCREATED:20260419T101832Z
UID:ATEvent-5783c66d-1bb9-48e5-97d1-7dfe1dba15a6
SEQUENCE:0
LAST-MODIFIED:20260419T201839Z
SUMMARY:"Gran Cabaret de Circ"
PRIORITY:3
TRANSP:0
END:VEVENT
END:VCALENDAR
