BEGIN:VCALENDAR
PRODID:-//AT Content Types//AT Event//EN
VERSION:1.0
BEGIN:VEVENT
DTSTART:20260710T200000Z
DTEND:20260710T210000Z
DCREATED:20260419T101832Z
UID:ATEvent-bc494f4a-4a98-419b-9619-f90e4271b5fb
SEQUENCE:0
LAST-MODIFIED:20260419T201838Z
SUMMARY:"Inventions"\, amb la companyia Mal Pelo
PRIORITY:3
TRANSP:0
END:VEVENT
END:VCALENDAR
