BEGIN:VCALENDAR
PRODID:-//AT Content Types//AT Event//EN
VERSION:2.0
METHOD:PUBLISH
BEGIN:VEVENT
DTSTAMP:20260420T001025Z
CREATED:20260419T101832Z
UID:ATEvent-09fea57b-c09e-4218-90f6-77ecd5b14a3e
LAST-MODIFIED:20260419T201838Z
SUMMARY:"La belleza"\, amb Rodrigo Cuevas
DTSTART:20260711T200000Z
DTEND:20260711T214000Z
CATEGORIES:Cultura
CLASS:PUBLIC
END:VEVENT
END:VCALENDAR
