BEGIN:VCALENDAR
PRODID:-//AT Content Types//AT Event//EN
VERSION:1.0
BEGIN:VEVENT
DTSTART:20260712T170000Z
DTEND:20260712T181500Z
DCREATED:20260419T101832Z
UID:ATEvent-d32554ff-c330-46fd-862f-01ff44fa3a97
SEQUENCE:0
LAST-MODIFIED:20260419T201838Z
SUMMARY:"Lo país Mèlt"\, amb el Quartet Mèlt
PRIORITY:3
TRANSP:0
END:VEVENT
END:VCALENDAR
