BEGIN:VCALENDAR
PRODID:-//AT Content Types//AT Event//EN
VERSION:2.0
METHOD:PUBLISH
BEGIN:VEVENT
DTSTAMP:20260419T234623Z
CREATED:20260419T101832Z
UID:ATEvent-88d83c1a-7aec-4568-b61d-c31535625b31
LAST-MODIFIED:20260419T201838Z
SUMMARY:"Lua"\, amb Alba Sarraute i Les Ofèlies
DTSTART:20260717T170000Z
DTEND:20260717T180000Z
CATEGORIES:Famílies,Cultura,Teatre
CLASS:PUBLIC
END:VEVENT
END:VCALENDAR
