BEGIN:VCALENDAR
PRODID:-//AT Content Types//AT Event//EN
VERSION:1.0
BEGIN:VEVENT
DTSTART:20260725T200000Z
DTEND:20260725T214500Z
DCREATED:20260419T101832Z
UID:ATEvent-5d4b1007-70d8-4b70-8f76-4f63c8814534
SEQUENCE:0
LAST-MODIFIED:20260419T201839Z
SUMMARY:Gira "Me voy a permitir"\, de Luz Casal
PRIORITY:3
TRANSP:0
END:VEVENT
END:VCALENDAR
