BEGIN:VCALENDAR
PRODID:-//AT Content Types//AT Event//EN
VERSION:1.0
BEGIN:VEVENT
DTSTART:20260814T190000Z
DTEND:20260814T201000Z
DCREATED:20260419T101832Z
UID:ATEvent-f8b17842-19a0-4d5f-93d7-d4ffed03cc47
SEQUENCE:0
LAST-MODIFIED:20260419T201840Z
SUMMARY:Nit Jove\: Compota de Manana
PRIORITY:3
TRANSP:0
END:VEVENT
END:VCALENDAR
