BEGIN:VCALENDAR
PRODID:-//AT Content Types//AT Event//EN
VERSION:1.0
BEGIN:VEVENT
DTSTART:20260814T220000Z
DTEND:20260814T231000Z
DCREATED:20260419T101832Z
UID:ATEvent-4fd033b4-5262-4485-846b-2324a687217a
SEQUENCE:0
LAST-MODIFIED:20260419T201840Z
SUMMARY:Nit Jove\: Dj Wu Shido
PRIORITY:3
TRANSP:0
END:VEVENT
END:VCALENDAR
