BEGIN:VCALENDAR
PRODID:-//AT Content Types//AT Event//EN
VERSION:1.0
BEGIN:VEVENT
DTSTART:20260814T203000Z
DTEND:20260814T214000Z
DCREATED:20260419T101832Z
UID:ATEvent-1881e329-3c56-473c-816a-448421056c82
SEQUENCE:0
LAST-MODIFIED:20260419T201840Z
SUMMARY:Nit Jove\: La Sra. Tomasa
PRIORITY:3
TRANSP:0
END:VEVENT
END:VCALENDAR
