BEGIN:VCALENDAR
PRODID:-//AT Content Types//AT Event//EN
VERSION:1.0
BEGIN:VEVENT
DTSTART:20260723T193000Z
DTEND:20260723T203000Z
DCREATED:20260419T101832Z
UID:ATEvent-e66db224-7012-4631-8fbb-37d16ec0d159
SEQUENCE:0
LAST-MODIFIED:20260419T201839Z
SUMMARY:Refugi Sonor\: Bernarda
PRIORITY:3
TRANSP:0
END:VEVENT
END:VCALENDAR
