BEGIN:VCALENDAR
PRODID:-//AT Content Types//AT Event//EN
VERSION:2.0
METHOD:PUBLISH
BEGIN:VEVENT
DTSTAMP:20260419T234728Z
CREATED:20260419T101832Z
UID:ATEvent-2fad6123-71d9-4994-be2b-5668abec4d34
LAST-MODIFIED:20260419T201839Z
SUMMARY:Refugi Sonor\: KIW
DTSTART:20260730T193000Z
DTEND:20260730T203000Z
CATEGORIES:Cultura
CLASS:PUBLIC
END:VEVENT
END:VCALENDAR
