BEGIN:VCALENDAR
PRODID:-//AT Content Types//AT Event//EN
VERSION:2.0
METHOD:PUBLISH
BEGIN:VEVENT
DTSTAMP:20260419T234954Z
CREATED:20260419T101832Z
UID:ATEvent-b8fd30b3-9b18-4902-89b1-ff7823e32feb
LAST-MODIFIED:20260419T201838Z
SUMMARY:Refugi Sonor\: Los Sara Fontan
DTSTART:20260716T193000Z
DTEND:20260716T203000Z
CATEGORIES:Cultura
CLASS:PUBLIC
END:VEVENT
END:VCALENDAR
